Workbook
Name Z_20966C26_2FB0_458A_A419_418535DD5D43_.wvu.Cols: #REF!
Name Z_20966C26_2FB0_458A_A419_418535DD5D43_.wvu.Cols: Upute!$B:$IU
Name Z_20966C26_2FB0_458A_A419_418535DD5D43_.wvu.PrintArea: OBVEZE!$A$3:$D$105
Name Z_20966C26_2FB0_458A_A419_418535DD5D43_.wvu.PrintTitles: OBVEZE!$A$3:$IQ$3
Name Z_20966C26_2FB0_458A_A419_418535DD5D43_.wvu.Rows: #REF!
Name Z_20966C26_2FB0_458A_A419_418535DD5D43_.wvu.Rows: Upute!$A$23:$IU$65535

Sheet Skriveni
A1: VP | B1: AOP | C1: IZNOS01 | D1: IZNOS02 | E1: IZNOS03 | F1: IZNOS04 | G1: KONTRBR | H1: RAZLIKA | I1: RAZLIKA1 | J1: POLJE | K1: TEKST | L1: BROJ
A2: 151 | B2: 1 | C2: ='PR-RAS'!D6 -> 28512666 | D2: ='PR-RAS'!E6 -> 33264199 | E2: 0 | F2: 0 | G2: =(B2/1000)*(C2*1+D2*2) -> 95041.064 | H2: =ABS(C2-ROUND(C2,0))+ABS(D2-ROUND(D2,0)) -> 0.68000001 | I2: 0
A3: 151 | B3: 2 | C3: ='PR-RAS'!D7 -> 9213265 | D3: ='PR-RAS'!E7 -> 11618960 | E3: 0 | F3: 0 | G3: =(B3/1000)*(C3*1+D3*2) -> 64902.371 | H3: =ABS(C3-ROUND(C3,0))+ABS(D3-ROUND(D3,0)) -> 0.29 | I3: 0
A4: 151 | B4: 3 | C4: ='PR-RAS'!D8 -> 8391562.8 | D4: ='PR-RAS'!E8 -> 10771311 | E4: 0 | F4: 0 | G4: =(B4/1000)*(C4*1+D4*2) -> 89802.554 | H4: =ABS(C4-ROUND(C4,0))+ABS(D4-ROUND(D4,0)) -> 0.17 | I4: 0
A5: 151 | B5: 4 | C5: ='PR-RAS'!D9 -> 7404143.9 | D5: ='PR-RAS'!E9 -> 9497711.2 | E5: 0 | F5: 0 | G5: =(B5/1000)*(C5*1+D5*2) -> 105598.27 | H5: =ABS(C5-ROUND(C5,0))+ABS(D5-ROUND(D5,0)) -> 0.31 | I5: 0
A6: 151 | B6: 5 | C6: ='PR-RAS'!D10 -> 534510.52 | D6: ='PR-RAS'!E10 -> 657202.99 | E6: 0 | F6: 0 | G6: =(B6/1000)*(C6*1+D6*2) -> 9244.5825 | H6: =ABS(C6-ROUND(C6,0))+ABS(D6-ROUND(D6,0)) -> 0.49 | I6: 0
A7: 151 | B7: 6 | C7: ='PR-RAS'!D11 -> 297495.71 | D7: ='PR-RAS'!E11 -> 344389.86 | E7: 0 | F7: 0 | G7: =(B7/1000)*(C7*1+D7*2) -> 5917.6526 | H7: =ABS(C7-ROUND(C7,0))+ABS(D7-ROUND(D7,0)) -> 0.43 | I7: 0
A8: 151 | B8: 7 | C8: ='PR-RAS'!D12 -> 1034263.4 | D8: ='PR-RAS'!E12 -> 1205232.1 | E8: 0 | F8: 0 | G8: =(B8/1000)*(C8*1+D8*2) -> 24113.093 | H8: =ABS(C8-ROUND(C8,0))+ABS(D8-ROUND(D8,0)) -> 0.48 | I8: 0
A9: 151 | B9: 8 | C9: ='PR-RAS'!D13 -> 415168.51 | D9: ='PR-RAS'!E13 -> 586208.25 | E9: 0 | F9: 0 | G9: =(B9/1000)*(C9*1+D9*2) -> 12700.68 | H9: =ABS(C9-ROUND(C9,0))+ABS(D9-ROUND(D9,0)) -> 0.74 | I9: 0
A10: 151 | B10: 9 | C10: ='PR-RAS'!D14 -> 11451.75 | D10: ='PR-RAS'!E14 -> 3183.23 | E10: 0 | F10: 0 | G10: =(B10/1000)*(C10*1+D10*2) -> 160.36389 | H10: =ABS(C10-ROUND(C10,0))+ABS(D10-ROUND(D10,0)) -> 0.48 | I10: 0
A11: 151 | B11: 10 | C11: ='PR-RAS'!D15 -> 1305470.9 | D11: ='PR-RAS'!E15 -> 1522616.6 | E11: 0 | F11: 0 | G11: =(B11/1000)*(C11*1+D11*2) -> 43507.042 | H11: =ABS(C11-ROUND(C11,0))+ABS(D11-ROUND(D11,0)) -> 0.46 | I11: 0
A12: 151 | B12: 11 | C12: ='PR-RAS'!D16 -> 0 | D12: ='PR-RAS'!E16 -> 0 | E12: 0 | F12: 0 | G12: =(B12/1000)*(C12*1+D12*2) -> 0 | H12: =ABS(C12-ROUND(C12,0))+ABS(D12-ROUND(D12,0)) -> 0 | I12: 0
A13: 151 | B13: 12 | C13: ='PR-RAS'!D17 -> 0 | D13: ='PR-RAS'!E17 -> 0 | E13: 0 | F13: 0 | G13: =(B13/1000)*(C13*1+D13*2) -> 0 | H13: =ABS(C13-ROUND(C13,0))+ABS(D13-ROUND(D13,0)) -> 0 | I13: 0
... A292: 151 | B292: 291 | C292: ='PR-RAS'!D296 -> 0 | D292: ='PR-RAS'!E296 -> 0 | E292: 0 | F292: 0 | G292: =(B292/1000)*(C292*1+D292*2) -> 0 | H292: =ABS(C292-ROUND(C292,0))+ABS(D292-ROUND(D292,0)) -> 0 | I292: 0
A293: 151 | B293: 292 | C293: ='PR-RAS'!D298 -> 254680.81 | D293: ='PR-RAS'!E298 -> 63024.44 | E293: 0 | F293: 0 | G293: =(B293/1000)*(C293*1+D293*2) -> 111173.07 | H293: =ABS(C293-ROUND(C293,0))+ABS(D293-ROUND(D293,0)) -> 0.63 | I293: 0
A294: 151 | B294: 293 | C294: ='PR-RAS'!D299 -> 72850.56 | D294: ='PR-RAS'!E299 -> 50100.49 | E294: 0 | F294: 0 | G294: =(B294/1000)*(C294*1+D294*2) -> 50704.101 | H294: =ABS(C294-ROUND(C294,0))+ABS(D294-ROUND(D294,0)) -> 0.93 | I294: 0
A295: 151 | B295: 294 | C295: ='PR-RAS'!D300 -> 72850.56 | D295: ='PR-RAS'!E300 -> 50100.49 | E295: 0 | F295: 0 | G295: =(B295/1000)*(C295*1+D295*2) -> 50877.153 | H295: =ABS(C295-ROUND(C295,0))+ABS(D295-ROUND(D295,0)) -> 0.93 | I295: 0
A296: 151 | B296: 295 | C296: ='PR-RAS'!D301 -> 72850.56 | D296: ='PR-RAS'!E301 -> 50100.49 | E296: 0 | F296: 0 | G296: =(B296/1000)*(C296*1+D296*2) -> 51050.204 | H296: =ABS(C296-ROUND(C296,0))+ABS(D296-ROUND(D296,0)) -> 0.93 | I296: 0
A297: 151 | B297: 296 | C297: ='PR-RAS'!D302 -> 0 | D297: ='PR-RAS'!E302 -> 0 | E297: 0 | F297: 0 | G297: =(B297/1000)*(C297*1+D297*2) -> 0 | H297: =ABS(C297-ROUND(C297,0))+ABS(D297-ROUND(D297,0)) -> 0 | I297: 0
A298: 151 | B298: 297 | C298: ='PR-RAS'!D303 -> 0 | D298: ='PR-RAS'!E303 -> 0 | E298: 0 | F298: 0 | G298: =(B298/1000)*(C298*1+D298*2) -> 0 | H298: =ABS(C298-ROUND(C298,0))+ABS(D298-ROUND(D298,0)) -> 0 | I298: 0
A299: 151 | B299: 298 | C299: ='PR-RAS'!D304 -> 0 | D299: ='PR-RAS'!E304 -> 0 | E299: 0 | F299: 0 | G299: =(B299/1000)*(C299*1+D299*2) -> 0 | H299: =ABS(C299-ROUND(C299,0))+ABS(D299-ROUND(D299,0)) -> 0 | I299: 0
A300: 151 | B300: 299 | C300: ='PR-RAS'!D305 -> 0 | D300: ='PR-RAS'!E305 -> 0 | E300: 0 | F300: 0 | G300: =(B300/1000)*(C300*1+D300*2) -> 0 | H300: =ABS(C300-ROUND(C300,0))+ABS(D300-ROUND(D300,0)) -> 0 | I300: 0
A301: 151 | B301: 300 | C301: ='PR-RAS'!D306 -> 0 | D301: ='PR-RAS'!E306 -> 0 | E301: 0 | F301: 0 | G301: =(B301/1000)*(C301*1+D301*2) -> 0 | H301: =ABS(C301-ROUND(C301,0))+ABS(D301-ROUND(D301,0)) -> 0 | I301: 0
A302: 151 | B302: 301 | C302: ='PR-RAS'!D307 -> 0 | D302: ='PR-RAS'!E307 -> 0 | E302: 0 | F302: 0 | G302: =(B302/1000)*(C302*1+D302*2) -> 0 | H302: =ABS(C302-ROUND(C302,0))+ABS(D302-ROUND(D302,0)) -> 0 | I302: 0
A303: 151 | B303: 302 | C303: ='PR-RAS'!D308 -> 0 | D303: ='PR-RAS'!E308 -> 0 | E303: 0 | F303: 0 | G303: =(B303/1000)*(C303*1+D303*2) -> 0 | H303: =ABS(C303-ROUND(C303,0))+ABS(D303-ROUND(D303,0)) -> 0 | I303: 0
A304: 151 | B304: 303 | C304: ='PR-RAS'!D309 -> 0 | D304: ='PR-RAS'!E309 -> 0 | E304: 0 | F304: 0 | G304: =(B304/1000)*(C304*1+D304*2) -> 0 | H304: =ABS(C304-ROUND(C304,0))+ABS(D304-ROUND(D304,0)) -> 0 | I304: 0
... A413: 151 | B413: 412 | C413: ='PR-RAS'!D418 -> 80145.75 | D413: ='PR-RAS'!E418 -> 31860.67 | E413: 0 | F413: 0 | G413: =(B413/1000)*(C413*1+D413*2) -> 59273.241 | H413: =ABS(C413-ROUND(C413,0))+ABS(D413-ROUND(D413,0)) -> 0.58 | I413: 0
A414: 151 | B414: 413 | C414: ='PR-RAS'!D420 -> 214245.66 | D414: ='PR-RAS'!E420 -> 139084.63 | E414: 0 | F414: 0 | G414: =(B414/1000)*(C414*1+D414*2) -> 203367.36 | H414: =ABS(C414-ROUND(C414,0))+ABS(D414-ROUND(D414,0)) -> 0.71 | I414: 0
A415: 151 | B415: 414 | C415: ='PR-RAS'!D421 -> 2132.17 | D415: ='PR-RAS'!E421 -> 12512.11 | E415: 0 | F415: 0 | G415: =(B415/1000)*(C415*1+D415*2) -> 11242.745 | H415: =ABS(C415-ROUND(C415,0))+ABS(D415-ROUND(D415,0)) -> 0.28 | I415: 0
A416: 151 | B416: 415 | C416: ='PR-RAS'!D422 -> 0 | D416: ='PR-RAS'!E422 -> 0 | E416: 0 | F416: 0 | G416: =(B416/1000)*(C416*1+D416*2) -> 0 | H416: =ABS(C416-ROUND(C416,0))+ABS(D416-ROUND(D416,0)) -> 0 | I416: 0
A417: 151 | B417: 416 | C417: ='PR-RAS'!D423 -> 0 | D417: ='PR-RAS'!E423 -> 0 | E417: 0 | F417: 0 | G417: =(B417/1000)*(C417*1+D417*2) -> 0 | H417: =ABS(C417-ROUND(C417,0))+ABS(D417-ROUND(D417,0)) -> 0 | I417: 0
A418: 151 | B418: 417 | C418: ='PR-RAS'!D424 -> 0 | D418: ='PR-RAS'!E424 -> 0 | E418: 0 | F418: 0 | G418: =(B418/1000)*(C418*1+D418*2) -> 0 | H418: =ABS(C418-ROUND(C418,0))+ABS(D418-ROUND(D418,0)) -> 0 | I418: 0
A419: 151 | B419: 418 | C419: ='PR-RAS'!D425 -> 0 | D419: ='PR-RAS'!E425 -> 0 | E419: 0 | F419: 0 | G419: =(B419/1000)*(C419*1+D419*2) -> 0 | H419: =ABS(C419-ROUND(C419,0))+ABS(D419-ROUND(D419,0)) -> 0 | I419: 0
A420: 151 | B420: 419 | C420: ='PR-RAS'!D426 -> 0 | D420: ='PR-RAS'!E426 -> 0 | E420: 0 | F420: 0 | G420: =(B420/1000)*(C420*1+D420*2) -> 0 | H420: =ABS(C420-ROUND(C420,0))+ABS(D420-ROUND(D420,0)) -> 0 | I420: 0
A421: 151 | B421: 420 | C421: ='PR-RAS'!D427 -> 0 | D421: ='PR-RAS'!E427 -> 0 | E421: 0 | F421: 0 | G421: =(B421/1000)*(C421*1+D421*2) -> 0 | H421: =ABS(C421-ROUND(C421,0))+ABS(D421-ROUND(D421,0)) -> 0 | I421: 0
A422: 151 | B422: 421 | C422: ='PR-RAS'!D428 -> 0 | D422: ='PR-RAS'!E428 -> 0 | E422: 0 | F422: 0 | G422: =(B422/1000)*(C422*1+D422*2) -> 0 | H422: =ABS(C422-ROUND(C422,0))+ABS(D422-ROUND(D422,0)) -> 0 | I422: 0
A423: 151 | B423: 422 | C423: ='PR-RAS'!D429 -> 0 | D423: ='PR-RAS'!E429 -> 0 | E423: 0 | F423: 0 | G423: =(B423/1000)*(C423*1+D423*2) -> 0 | H423: =ABS(C423-ROUND(C423,0))+ABS(D423-ROUND(D423,0)) -> 0 | I423: 0
A424: 151 | B424: 423 | C424: ='PR-RAS'!D430 -> 0 | D424: ='PR-RAS'!E430 -> 0 | E424: 0 | F424: 0 | G424: =(B424/1000)*(C424*1+D424*2) -> 0 | H424: =ABS(C424-ROUND(C424,0))+ABS(D424-ROUND(D424,0)) -> 0 | I424: 0
A425: 151 | B425: 424 | C425: ='PR-RAS'!D431 -> 0 | D425: ='PR-RAS'!E431 -> 0 | E425: 0 | F425: 0 | G425: =(B425/1000)*(C425*1+D425*2) -> 0 | H425: =ABS(C425-ROUND(C425,0))+ABS(D425-ROUND(D425,0)) -> 0 | I425: 0
... A641: 151 | B641: 640 | C641: ='PR-RAS'!D647 -> 229474.15 | D641: ='PR-RAS'!E647 -> 276055.84 | E641: 0 | F641: 0 | G641: =(B641/1000)*(C641*1+D641*2) -> 500214.93 | H641: =ABS(C641-ROUND(C641,0))+ABS(D641-ROUND(D641,0)) -> 0.31 | I641: 0
...

Sheet Upute
A1: OSNOVNE UPUTE ZA UNOS PODATAKA
A3: Izvještaji su napravljeni u Excel datoteci te u slučaju popunjavanja obrasca u starim verzijama MS Excel-a važno je da se datoteka spremi u novoj verziji, tj. mora se snimiti u novijem ".xlsx" formatu. Predaja ovih obrazaca moguća je samo putem web servisa.
A4: Sva bitna pravila o popunjavanju obrazaca, poslovnim pravilima navedena su u nastavku uputa, ono što nije objašnjeno u uputama opisano je u kontrolama koje javljaju pogrešku. Prije nego rješenje problema potražite na broju telefona ili adresi e-pošte na dnu uputa, pokušajte ga pronaći u sklopu uputa. Također, novost je da prilikom uvoza samog dokumenta u aplikaciju, u slučaju pogreški, aplikacija će iste javiti!
A5: Analizom najčešćih pogrešaka prilikom popunjavanja i predaje, nastojali smo na najmanju moguću mjeru smanjiti mogućnost pogreške pri popunjavanju te olakšati pronalaženje pogrešaki. Pozadina ćelije koja je upisana s predznakom minus tamo gdje to nije dopušteno obojat će se crvenom bojom. Iako je onemogućen ručni upis takvih podataka, programi koji pune Excel datoteku mogu u svaku ćeliju "zgurati" bilo kakvu vrijednost pa je kontrola ovog tipa potrebna. Također, novost je da prilikom uvoza samog dokumenta u aplikaciju, u slučaju pogreški, aplikacija će iste javiti!
A6: U nastavku su dane tehničke upute o popunjavanju obrazaca.
A7: U obrasce se unose iznosi samo pojedinačnih stavki. Sumarne stavke zaštićene su, u njih nije moguć unos, a izračunavaju se automatski na osnovu upisanih pojedinačnih iznosa. Iznosi s lipama su dopušteni. Sumarne stavke u obrascu su plave boje s podebljanim tipom slova (bold) da se bolje razlikuju. Vrijednosti tih pozicija izračunat će se automatski na osnovu upisanih pojedinačnih stavaka. Na obrascima koji imaju stupac indeks, taj podatak se ne upisuje već se izračunava automatski na osnovu upisanih vrijednosti. Tamo gdje indeks nije moguće izračunati pojavit će se crtica "-", a tamo gdje je indeks veći od 1000 pojavit će se tekst ">>100".
A8: Vrlo važno: Kod unosa vrijednosti naprednijim metodama Kopiraj/Zalijepi (Copy/Paste) iz nekih drugih dokumenata OBAVEZNO koristite metodu Copy (Kopiraj), a ne Cut (Izreži), jer se kod korištenja metode Cut/Paste nepovratno pokvari struktura datoteke. Isto tako, kod Paste metode koristite opciju Paste Special (Posebno lijepljenje), pa odaberite Vrijednosti (Value). Ni u kom slučaju ne prenosite krivo upisane iznose s jedne pozicije u excel-u na drugu tako da ih odvlačite mišem na ispravno mjesto. Ovo je i dalje vrlo česta pogreška i takav način rada trajno oštećuje Excel datoteku (potrebno je novu popuniti od nule). Ni u kom slučaju ne brišite postojeće radne listove, ne mijenjajte nazive postojećih, ne uključujte dijeljenje ili zaštitu radne knjige, ne ubacujte linkove na neke druge dokumente. S obzirom da su svi radni listovi međusobno povezani formulama koje služe kao kontrola, svaka od spomenutih radnji rezultira da Excel datoteka postane neupotrebljiva za računalnu obradu i morat ćete ispuniti novu datoteku.
A9: Kontrole obrazaca su na razini pojedinog obrasca. Kontrole na razini pojedinog obrasca provjeravajte nakon popunjavanja tog obrasca. Ako neka kontrola nije zadovoljena ispravite podatak.
A10: Korisnici Open Office-a: Koristite li starije verzije OpenOffice-a možete s Interneta besplatno skinuti zadnju verziju OpenOffice-a, jer obrasci popunjeni u starijim verzijama mogli bi biti nečitki nakon predaje u aplikaciju. Također, neke verzije Excel-a ne rade dobro bez svih zakrpa (Service Pack-ova), zato provjerite sa svojim informatičarima imate li na računalu instalirane sve zakrpe za program koji koristitie za popunjavanje. Ispravan format ima nastavak .xlsx. Promjena samo nastavka u nazivu datoteke ne mijenja stvarni format datoteke pa će takva datoteka i dalje biti problem ako je samo preimenujete iz *.xls u *.xlsx.
A11: Imate li problema tehničke naravi s popunjavanjem obrasca, radom kontrola i slično, dostavite nam popunjenu problematičnu Excel datoteku zajedno s Vašim kontakt podacima te podacima o programu koji i koju verziju koristite za popunjavanje na adresu e-pošte: rkpfi@mfin.hr.

Sheet RefStr
A2: REFERENTNA STRANICA
I3: Verzija 8.1.3
A4: Izvještaji proračuna, proračunskih i izvanproračunskih korisnika
B6: RKP: | C6: 32297 | H6: Popunjen | I6: Broj pogrešaka
E7: Pregled popunjenosti obrazaca: | F7: PR-RAS | H7: =IF(OR(MAX(Skriveni!C2:F983)>0,MIN(Skriveni!C2:F983)<0),"DA","NE") -> DA | I7: =IF(AND(H7="DA",Kont!E20>0),Kont!E20,"Nema") -> Nema
B8: Naziv obveznika: | C8: BRODSKO-POSAVSKA ŽUPANIJA | F8: BILANCA | H8: =IF(OR(MAX(Skriveni!C984:D1298)>0,MIN(Skriveni!C984:D1298)<0),"DA","NE") -> DA | I8: =IF(AND(H8="DA",Kont!E277>0),Kont!E277,"Nema") -> Nema
F9: RAS funkcijski | H9: =IF(OR(MAX(Skriveni!C1299:D1435)>0,MIN(Skriveni!C1299:D1435)<0),"DA","NE") -> DA | I9: =IF(AND(H9="DA",Kont!E316>0),Kont!E316,"Nema") -> Nema
B10: Razina: | C10: 22 | F10: P-VRIO | H10: {=IF(OR(SUMPRODUCT(--('P-VRIO'!D8:E13<>""))<>0,SUMPRODUCT(--('P-VRIO'!D15:E21<>""))<>0,SUMPRODUCT(--('P-VRIO'!D24:E29<>""))<>0,SUMPRODUCT(--('P-VRIO'!D31:E37<>""))<>0,SUMPRODUCT(--('P-VRIO'!D40:E43<>""))<>0,SUMPRODUCT(--('P-VRIO'!D45:E48<>""))<>0),"DA","NE")} -> DA | I10: =IF(Kont!E314>0,Kont!E314,"Nema") -> Nema
F11: OBVEZE | H11: =IF(OR(MAX(Skriveni!C1480:C1580)>0,MIN(Skriveni!C1480:C1580)<0),"DA","NE") -> DA | I11: =IF(AND(H11="DA",Kont!E311>0),Kont!E311,"Nema") -> Nema
B12: Oznaka razdoblja: | C12: 2023-12
A15: Obrazac | B15: Opis stavke | G15: Šifra | H15: Prethodna godina / početak godine | I15: Tekuća godina / kraj godine
A16: PR-RAS | B16: ='PR-RAS'!B6 -> PRIHODI POSLOVANJA (šifre 61+62+63+64+65+66+67+68) | G16: ='PR-RAS'!C6 -> 6 | H16: ='PR-RAS'!D6 -> 28512666 | I16: ='PR-RAS'!E6 -> 33264199
B17: ='PR-RAS'!B151 -> RASHODI POSLOVANJA (šifre 31+32+34+35+36+37+38) | G17: ='PR-RAS'!C151 -> 3 | H17: ='PR-RAS'!D151 -> 21326065 | I17: ='PR-RAS'!E151 -> 27718807
B18: ='PR-RAS'!B645 -> Višak prihoda i primitaka raspoloživ u sljedećem razdoblju (šifre X005 + '9221-9222' - Y005 - '9222-9221') | G18: ='PR-RAS'!C645 -> X006 | H18: ='PR-RAS'!D645 -> 9049261.8 | I18: ='PR-RAS'!E645 -> 11263339
B19: ='PR-RAS'!B646 -> Manjak prihoda i primitaka za pokriće u sljedećem razdoblju (šifre Y005 + '9222-9221' - X005 - '9221-9222' ) | G19: ='PR-RAS'!C646 -> Y006 | H19: ='PR-RAS'!D646 -> 0 | I19: ='PR-RAS'!E646 -> 0
A20: BILANCA | B20: =BILANCA!B7 -> Nefinancijska imovina (šifre 01+02+03+04+05+06) | G20: =BILANCA!C7 -> B002 | H20: =BILANCA!D7 -> 14776460 | I20: =BILANCA!E7 -> 15838719
B21: =BILANCA!B68 -> Financijska imovina (šifre 11+12+13+14+15+16+17+19) | G21: =BILANCA!C68 -> 1 | H21: =BILANCA!D68 -> 12031694 | I21: =BILANCA!E68 -> 19965549
B22: =BILANCA!B176 -> Obveze (šifre 23+24+25+26+29) | G22: =BILANCA!C176 -> 2 | H22: =BILANCA!D176 -> 7611543.5 | I22: =BILANCA!E176 -> 12366717
B23: =BILANCA!B237 -> Vlastiti izvori (šifre 91 + 922 - 93 + 96 do 98) | G23: =BILANCA!C237 -> 9 | H23: =BILANCA!D237 -> 19196610 | I23: =BILANCA!E237 -> 23437551
A24: RAS-funkcijski | B24: ='RAS-funkcijski'!B5 -> Opće javne usluge (šifre 011+012+013+014 do 018) | G24: ='RAS-funkcijski'!C5 -> 01 | H24: ='RAS-funkcijski'!D5 -> 5360529 | I24: ='RAS-funkcijski'!E5 -> 10222356
B25: ='RAS-funkcijski'!B35 -> Ekonomski poslovi (šifre 041+042+043+044+045+046+047+048+049) | G25: ='RAS-funkcijski'!C35 -> 04 | H25: ='RAS-funkcijski'!D35 -> 2194718.6 | I25: ='RAS-funkcijski'!E35 -> 3127325.8
B26: ='RAS-funkcijski'!B88 -> Rashodi vezani za stanovanje i kom. pogodnosti koji nisu drugdje svrstani | G26: ='RAS-funkcijski'!C88 -> 066 | H26: ='RAS-funkcijski'!D88 -> 0 | I26: ='RAS-funkcijski'!E88 -> 0
B27: ='RAS-funkcijski'!B114 -> Obrazovanje (šifre 091+092+093+094+095+096+097+098) | G27: ='RAS-funkcijski'!C114 -> 09 | H27: ='RAS-funkcijski'!D114 -> 2226216.4 | I27: ='RAS-funkcijski'!E114 -> 2359805.9
B28: ='RAS-funkcijski'!B141 -> Kontrolni zbroj (šifre 01+02+03+04+05+06+07+08+09+10) | G28: ='RAS-funkcijski'!C141 -> R1 | H28: ='RAS-funkcijski'!D141 -> 13702263 | I28: ='RAS-funkcijski'!E141 -> 20036215
A29: P-VRIO | B29: ='P-VRIO'!B5 -> Promjene u vrijednosti i obujmu imovine (šifre 91511+91512) | G29: ='P-VRIO'!C5 -> 9151 | H29: ='P-VRIO'!D5 -> 149770.24 | I29: ='P-VRIO'!E5 -> 823451.42
B30: ='P-VRIO'!B22 -> Promjene u obujmu imovine (šifre P016+P023) | G30: ='P-VRIO'!C22 -> 91512 | H30: ='P-VRIO'!D22 -> 0 | I30: ='P-VRIO'!E22 -> 823451.42
B31: ='P-VRIO'!B38 -> Promjene u vrijednosti (revalorizacija) i obujmu obveza (šifre 91521+91522) | G31: ='P-VRIO'!C38 -> 9152 | H31: ='P-VRIO'!D38 -> 0 | I31: ='P-VRIO'!E38 -> 0
B32: ='P-VRIO'!B44 -> Promjene u obujmu obveza (šifre P035 do P038) | G32: ='P-VRIO'!C44 -> 91522 | H32: ='P-VRIO'!D44 -> 0 | I32: ='P-VRIO'!E44 -> 0
A33: OBVEZE | B33: =OBVEZE!B5 -> Stanje obveza 1. siječnja (=stanju obveza iz Izvještaja o obvezama na 31. prosinca prethodne godine) | G33: =OBVEZE!C5 -> V001 | H33: - | I33: =OBVEZE!D5 -> 7611271.3
B34: =OBVEZE!B42 -> Stanje obveza na kraju izvještajnog razdoblja (šifre V001+V002-V004) i (šifre V007+V009) | G34: =OBVEZE!C42 -> V006 | H34: - | I34: =OBVEZE!D42 -> 12366002
B35: =OBVEZE!B43 -> Stanje dospjelih obveza na kraju izvještajnog razdoblja (šifre V008+D23+D24 + 'D dio 25,26') | G35: =OBVEZE!C43 -> V007 | H35: - | I35: =OBVEZE!D43 -> 553486.98
B36: =OBVEZE!B101 -> Stanje nedospjelih obveza na kraju izvještajnog razdoblja (šifre V010 + ND23 + ND24 + 'ND dio 25,26') | G36: =OBVEZE!C101 -> V009 | H36: - | I36: =OBVEZE!D101 -> 11812515
H39: Potpis odgovorne osobe i pečat

Sheet PR-RAS
A1: Obveznik: | B1: 32297 - BRODSKO-POSAVSKA ŽUPANIJA | C1: Razina: | D1: 22 | E1: Razdoblje: | F1: 2023-12
A2: IZVJEŠTAJ O PRIHODIMA I RASHODIMA, PRIMICIMA I IZDACIMA
A3: Račun iz Rač. plana | B3: Opis stavke | C3: Šifra | D3: Ostvareno u izvještajnom razdoblju preth. godine | E3: Ostvareno u izvještajnom razdoblju tekuće godine | F3: Indeks (5/4)
A4: 1 | B4: 2 | C4: 3 | D4: 4 | E4: 5 | F4: 6
A5: Prihodi i rashodi poslovanja
A6: 6 | B6: PRIHODI POSLOVANJA (šifre 61+62+63+64+65+66+67+68) | C6: 6 | D6: =D7+D44+D50+D82+D106+D124+D133+D139 -> 28512666 | E6: =E7+E44+E50+E82+E106+E124+E133+E139 -> 33264199 | F6: =IF(D6<>0,IF(E6/D6>=100,">>100",E6/D6*100),"-") -> 116.66464
A7: 61 | B7: Prihodi od poreza (šifre 611+612+613+614+615+616) | C7: 61 | D7: =D8+D17+D23+D29+D37+D40 -> 9213265 | E7: =E8+E17+E23+E29+E37+E40 -> 11618960 | F7: =IF(D7<>0,IF(E7/D7>=100,">>100",E7/D7*100),"-") -> 126.11121
A8: 611 | B8: Porez i prirez na dohodak (šifre 6111 do 6116 - 6117 - 6119) | C8: 611 | D8: =SUM(D9:D14)-D15-D16 -> 8391562.8 | E8: =SUM(E9:E14)-E15-E16 -> 10771311 | F8: =IF(D8<>0,IF(E8/D8>=100,">>100",E8/D8*100),"-") -> 128.35882
A9: 6111 | B9: Porez i prirez na dohodak od nesamostalnog rada | C9: 6111 | D9: 7404143.9 | E9: 9497711.2 | F9: =IF(D9<>0,IF(E9/D9>=100,">>100",E9/D9*100),"-") -> 128.27562
A10: 6112 | B10: Porez i prirez na dohodak od samostalnih djelatnosti | C10: 6112 | D10: 534510.52 | E10: 657202.99 | F10: =IF(D10<>0,IF(E10/D10>=100,">>100",E10/D10*100),"-") -> 122.95417
A11: 6113 | B11: Porez i prirez na dohodak od imovine i imovinskih prava | C11: 6113 | D11: 297495.71 | E11: 344389.86 | F11: =IF(D11<>0,IF(E11/D11>=100,">>100",E11/D11*100),"-") -> 115.76297
A12: 6114 | B12: Porez i prirez na dohodak od kapitala | C12: 6114 | D12: 1034263.4 | E12: 1205232.1 | F12: =IF(D12<>0,IF(E12/D12>=100,">>100",E12/D12*100),"-") -> 116.53048
A13: 6115 | B13: Porez i prirez na dohodak po godišnjoj prijavi | C13: 6115 | D13: 415168.51 | E13: 586208.25 | F13: =IF(D13<>0,IF(E13/D13>=100,">>100",E13/D13*100),"-") -> 141.19767
A14: 6116 | B14: Porez i prirez na dohodak utvrđen u postupku nadzora za prethodne godine | C14: 6116 | D14: 11451.75 | E14: 3183.23 | F14: =IF(D14<>0,IF(E14/D14>=100,">>100",E14/D14*100),"-") -> 27.796887
A15: 6117 | B15: Povrat poreza i prireza na dohodak po godišnjoj prijavi | C15: 6117 | D15: 1305470.9 | E15: 1522616.6 | F15: =IF(D15<>0,IF(E15/D15>=100,">>100",E15/D15*100),"-") -> 116.63352
A16: 6119 | B16: Povrat više ostvarenog poreza na dohodak za decentralizirane funkcije | C16: 6119 | D16: 0 | F16: =IF(D16<>0,IF(E16/D16>=100,">>100",E16/D16*100),"-") -> -
A17: 612 | B17: Porez na dobit (šifre 6121 do 6124 - 6125) | C17: 612 | D17: =SUM(D18:D21)-D22 -> 0 | E17: =SUM(E18:E21)-E22 -> 0 | F17: =IF(D17<>0,IF(E17/D17>=100,">>100",E17/D17*100),"-") -> -
A18: 6121 | B18: Porez na dobit od poduzetnika | C18: 6121 | D18: 0 | F18: =IF(D18<>0,IF(E18/D18>=100,">>100",E18/D18*100),"-") -> -
A19: 6122 | B19: Porez na dobit po odbitku na naknade za korištenje prava i za usluge | C19: 6122 | D19: 0 | F19: =IF(D19<>0,IF(E19/D19>=100,">>100",E19/D19*100),"-") -> -
A20: 6123 | B20: Porez na dobit po odbitku na kamate, dividende i udjele u dobiti | C20: 6123 | D20: 0 | F20: =IF(D20<>0,IF(E20/D20>=100,">>100",E20/D20*100),"-") -> -
A21: 6124 | B21: Porez na dobit po godišnjoj prijavi | C21: 6124 | D21: 0 | F21: =IF(D21<>0,IF(E21/D21>=100,">>100",E21/D21*100),"-") -> -
A22: 6125 | B22: Povrat poreza na dobit po godišnjoj prijavi | C22: 6125 | D22: 0 | F22: =IF(D22<>0,IF(E22/D22>=100,">>100",E22/D22*100),"-") -> -
A23: 613 | B23: Porezi na imovinu (šifre 6131 do 6135) | C23: 613 | D23: =SUM(D24:D28) -> 13851.27 | E23: =SUM(E24:E28) -> 6257.91 | F23: =IF(D23<>0,IF(E23/D23>=100,">>100",E23/D23*100),"-") -> 45.179323
A24: 6131 | B24: Stalni porezi na nepokretnu imovinu | C24: 6131 | D24: 0 | F24: =IF(D24<>0,IF(E24/D24>=100,">>100",E24/D24*100),"-") -> -
A25: 6132 | B25: Porez na nasljedstva i darove | C25: 6132 | D25: 13851.27 | E25: 6257.91 | F25: =IF(D25<>0,IF(E25/D25>=100,">>100",E25/D25*100),"-") -> 45.179323
A26: 6133 | B26: Porez na kapitalne i financijske transakcije | C26: 6133 | D26: 0 | F26: =IF(D26<>0,IF(E26/D26>=100,">>100",E26/D26*100),"-") -> -
A27: 6134 | B27: Povremeni porezi na imovinu | C27: 6134 | D27: 0 | F27: =IF(D27<>0,IF(E27/D27>=100,">>100",E27/D27*100),"-") -> -
A28: 6135 | B28: Ostali stalni porezi na imovinu | C28: 6135 | D28: 0 | F28: =IF(D28<>0,IF(E28/D28>=100,">>100",E28/D28*100),"-") -> -
A29: 614 | B29: Porezi na robu i usluge (šifre 6141 do 6148) | C29: 614 | D29: =SUM(D30:D36) -> 807850.93 | E29: =SUM(E30:E36) -> 841391.35 | F29: =IF(D29<>0,IF(E29/D29>=100,">>100",E29/D29*100),"-") -> 104.15181
A30: 6141 | B30: Porez na dodanu vrijednost | C30: 6141 | D30: 0 | F30: =IF(D30<>0,IF(E30/D30>=100,">>100",E30/D30*100),"-") -> -
A31: 6142 | B31: Porez na promet | C31: 6142 | D31: 0 | F31: =IF(D31<>0,IF(E31/D31>=100,">>100",E31/D31*100),"-") -> -
A32: 6143 | B32: Posebni porezi i trošarine | C32: 6143 | D32: 0 | F32: =IF(D32<>0,IF(E32/D32>=100,">>100",E32/D32*100),"-") -> -
A33: 6145 | B33: Porezi na korištenje dobara ili izvođenje aktivnosti | C33: 6145 | D33: 799104.5 | E33: 832937.77 | F33: =IF(D33<>0,IF(E33/D33>=100,">>100",E33/D33*100),"-") -> 104.2339
A34: 6146 | B34: Ostali porezi na robu i usluge | C34: 6146 | D34: 0 | F34: =IF(D34<>0,IF(E34/D34>=100,">>100",E34/D34*100),"-") -> -
A35: 6147 | B35: Porez na dobitke od igara na sreću i ostali porezi od igara na sreću | C35: 6147 | D35: 8746.43 | E35: 8453.58 | F35: =IF(D35<>0,IF(E35/D35>=100,">>100",E35/D35*100),"-") -> 96.651777
A36: 6148 | B36: Naknade za priređivanje igara na sreću | C36: 6148 | D36: 0 | F36: =IF(D36<>0,IF(E36/D36>=100,">>100",E36/D36*100),"-") -> -
A37: 615 | B37: Porezi na međunarodnu trgovinu i transakcije (šifre 6151+6152) | C37: 615 | D37: =SUM(D38:D39) -> 0 | E37: =SUM(E38:E39) -> 0 | F37: =IF(D37<>0,IF(E37/D37>=100,">>100",E37/D37*100),"-") -> -
A38: 6151 | B38: Carine i carinske pristojbe | C38: 6151 | D38: 0 | F38: =IF(D38<>0,IF(E38/D38>=100,">>100",E38/D38*100),"-") -> -
A39: 6152 | B39: Ostali porezi na međunarodnu trgovinu i transakcije | C39: 6152 | D39: 0 | F39: =IF(D39<>0,IF(E39/D39>=100,">>100",E39/D39*100),"-") -> -
A40: 616 | B40: Ostali prihodi od poreza (šifre 6161 do 6163) | C40: 616 | D40: =SUM(D41:D43) -> 0 | E40: =SUM(E41:E43) -> 0 | F40: =IF(D40<>0,IF(E40/D40>=100,">>100",E40/D40*100),"-") -> -
...

Sheet BILANCA
A1: Obveznik: | B1: 32297 - BRODSKO-POSAVSKA ŽUPANIJA | C1: Razina: | D1: 22 | E1: Razdoblje: | F1: 2023-12
A2: BILANCA
A3: Račun iz Rač. plana | B3: Opis stavke | C3: Šifra | D3: Stanje 1. siječnja | E3: Stanje 31. prosinca | F3: Indeks (5/4)
A4: 1 | B4: 2 | C4: 3 | D4: 4 | E4: 5 | F4: 6
A5: IMOVINA
B6: IMOVINA (šifre B002+1) | C6: B001 | D6: =D7+D68 -> 26808154 | E6: =E7+E68 -> 35804268 | F6: =IF(D6>0,IF(E6/D6>=100,">>100",E6/D6*100),"-") -> 133.55738
A7: 0 | B7: Nefinancijska imovina (šifre 01+02+03+04+05+06) | C7: B002 | D7: =D8+D12+D51+D52+D56+D63 -> 14776460 | E7: =E8+E12+E51+E52+E56+E63 -> 15838719 | F7: =IF(D7>0,IF(E7/D7>=100,">>100",E7/D7*100),"-") -> 107.18886
A8: 01 | B8: Neproizvedena dugotrajna imovina (šifre 011+012-019) | C8: 01 | D8: =D9+D10-D11 -> 14145.27 | E8: =E9+E10-E11 -> 710134.17 | F8: =IF(D8>0,IF(E8/D8>=100,">>100",E8/D8*100),"-") -> 5020.2942
A9: 011 | B9: Materijalna imovina - prirodna bogatstva | C9: 011 | D9: 13272.28 | E9: 710067.02 | F9: =IF(D9>0,IF(E9/D9>=100,">>100",E9/D9*100),"-") -> 5350.0003
A10: 012 | B10: Nematerijalna imovina | C10: 012 | D10: 9701.56 | E10: 9701.57 | F10: =IF(D10>0,IF(E10/D10>=100,">>100",E10/D10*100),"-") -> 100.0001
A11: 019 | B11: Ispravak vrijednosti neproizvedene dugotrajne imovine | C11: 019 | D11: 8828.57 | E11: 9634.42 | F11: =IF(D11>0,IF(E11/D11>=100,">>100",E11/D11*100),"-") -> 109.12775
A12: 02 | B12: Proizvedena dugotrajna imovina (šifre '021 i 02921' + '022 i 02922' + '023 i 02923' + '024 i 02924' + '025 i 02925' + '026 i 02926') | C12: 02 | D12: =D13+D19+D29+D35+D41+D45 -> 14651989 | E12: =E13+E19+E29+E35+E41+E45 -> 14820439 | F12: =IF(D12>0,IF(E12/D12>=100,">>100",E12/D12*100),"-") -> 101.14968
A13: 021 i 02921 | B13: Građevinski objekti (šifre 0211 do 0214 - 02921) | C13: 021 i 02921 | D13: =SUM(D14:D17)-D18 -> 14002195 | E13: =SUM(E14:E17)-E18 -> 14022859 | F13: =IF(D13>0,IF(E13/D13>=100,">>100",E13/D13*100),"-") -> 100.14758
A14: 0211 | B14: Stambeni objekti | C14: 0211 | D14: 1327.23 | E14: 1327.23 | F14: =IF(D14>0,IF(E14/D14>=100,">>100",E14/D14*100),"-") -> 100
A15: 0212 | B15: Poslovni objekti | C15: 0212 | D15: 10594403 | E15: 10623466 | F15: =IF(D15>0,IF(E15/D15>=100,">>100",E15/D15*100),"-") -> 100.27433
A16: 0213 | B16: Ceste, željeznice i ostali prometni objekti | C16: 0213 | D16: 0 | F16: =IF(D16>0,IF(E16/D16>=100,">>100",E16/D16*100),"-") -> -
A17: 0214 | B17: Ostali građevinski objekti | C17: 0214 | D17: 5314993 | E17: 5745564.6 | F17: =IF(D17>0,IF(E17/D17>=100,">>100",E17/D17*100),"-") -> 108.10107
A18: 02921 | B18: Ispravak vrijednosti građevinskih objekata | C18: 02921 | D18: 1908527.8 | E18: 2347498.7 | F18: =IF(D18>0,IF(E18/D18>=100,">>100",E18/D18*100),"-") -> 123.0005
A19: 022 i 02922 | B19: Postrojenja i oprema (šifre 0221 do 0228 - 02922) | C19: 022 i 02922 | D19: =SUM(D20:D27)-D28 -> 603439.21 | E19: =SUM(E20:E27)-E28 -> 514580.71 | F19: =IF(D19>0,IF(E19/D19>=100,">>100",E19/D19*100),"-") -> 85.274656
A20: 0221 | B20: Uredska oprema i namještaj | C20: 0221 | D20: 1316705.9 | E20: 1362002.4 | F20: =IF(D20>0,IF(E20/D20>=100,">>100",E20/D20*100),"-") -> 103.44014
A21: 0222 | B21: Komunikacijska oprema | C21: 0222 | D21: 207471.72 | E21: 206860.26 | F21: =IF(D21>0,IF(E21/D21>=100,">>100",E21/D21*100),"-") -> 99.70528
A22: 0223 | B22: Oprema za održavanje i zaštitu | C22: 0223 | D22: 349241.67 | E22: 385931.02 | F22: =IF(D22>0,IF(E22/D22>=100,">>100",E22/D22*100),"-") -> 110.50543
A23: 0224 | B23: Medicinska i laboratorijska oprema | C23: 0224 | D23: 312570.72 | E23: 312570.7 | F23: =IF(D23>0,IF(E23/D23>=100,">>100",E23/D23*100),"-") -> 99.999994
A24: 0225 | B24: Instrumenti, uređaji i strojevi | C24: 0225 | D24: 260774.66 | E24: 260774.65 | F24: =IF(D24>0,IF(E24/D24>=100,">>100",E24/D24*100),"-") -> 99.999996
A25: 0226 | B25: Sportska i glazbena oprema | C25: 0226 | D25: 0 | F25: =IF(D25>0,IF(E25/D25>=100,">>100",E25/D25*100),"-") -> -
A26: 0227 | B26: Uređaji, strojevi i oprema za ostale namjene | C26: 0227 | D26: 144017.2 | E26: 164618.11 | F26: =IF(D26>0,IF(E26/D26>=100,">>100",E26/D26*100),"-") -> 114.30448
A27: 0228 | B27: Vojna oprema | C27: 0228 | D27: 0 | F27: =IF(D27>0,IF(E27/D27>=100,">>100",E27/D27*100),"-") -> -
A28: 02922 | B28: Ispravak vrijednosti postrojenja i opreme | C28: 02922 | D28: 1987342.6 | E28: 2178176.4 | F28: =IF(D28>0,IF(E28/D28>=100,">>100",E28/D28*100),"-") -> 109.60246
A29: 023 i 02923 | B29: Prijevozna sredstva (šifre 0231 do 0234 - 02923) | C29: 023 i 02923 | D29: =SUM(D30:D33)-D34 -> 30558.74 | E29: =SUM(E30:E33)-E34 -> 270010.68 | F29: =IF(D29>0,IF(E29/D29>=100,">>100",E29/D29*100),"-") -> 883.57923
A30: 0231 | B30: Prijevozna sredstva u cestovnom prometu | C30: 0231 | D30: 275805.54 | E30: 458373.56 | F30: =IF(D30>0,IF(E30/D30>=100,">>100",E30/D30*100),"-") -> 166.19447
A31: 0232 | B31: Prijevozna sredstva u željezničkom prometu | C31: 0232 | D31: 0 | F31: =IF(D31>0,IF(E31/D31>=100,">>100",E31/D31*100),"-") -> -
A32: 0233 | B32: Prijevozna sredstva u pomorskom i riječnom prometu | C32: 0233 | D32: 0 | F32: =IF(D32>0,IF(E32/D32>=100,">>100",E32/D32*100),"-") -> -
A33: 0234 | B33: Prijevozna sredstva u zračnom prometu | C33: 0234 | D33: 0 | F33: =IF(D33>0,IF(E33/D33>=100,">>100",E33/D33*100),"-") -> -
A34: 02923 | B34: Ispravak vrijednosti prijevoznih sredstava | C34: 02923 | D34: 245246.8 | E34: 188362.88 | F34: =IF(D34>0,IF(E34/D34>=100,">>100",E34/D34*100),"-") -> 76.805438
A35: 024 i 02924 | B35: Knjige, umjetnička djela i ostale izložbene vrijednosti (šifre 0241 do 0244 - 02924) | C35: 024 i 02924 | D35: =SUM(D36:D39)-D40 -> 0 | E35: =SUM(E36:E39)-E40 -> 0 | F35: =IF(D35>0,IF(E35/D35>=100,">>100",E35/D35*100),"-") -> -
A36: 0241 | B36: Knjige | C36: 0241 | D36: 0 | F36: =IF(D36>0,IF(E36/D36>=100,">>100",E36/D36*100),"-") -> -
A37: 0242 | B37: Umjetnička djela (izložena u galerijama, muzejima i slično) | C37: 0242 | D37: 2189.93 | E37: 2189.9 | F37: =IF(D37>0,IF(E37/D37>=100,">>100",E37/D37*100),"-") -> 99.99863
A38: 0243 | B38: Muzejski izlošci i predmeti prirodnih rijetkosti | C38: 0243 | D38: 0 | F38: =IF(D38>0,IF(E38/D38>=100,">>100",E38/D38*100),"-") -> -
A39: 0244 | B39: Ostale nespomenute izložbene vrijednosti | C39: 0244 | D39: 0 | F39: =IF(D39>0,IF(E39/D39>=100,">>100",E39/D39*100),"-") -> -
A40: 02924 | B40: Ispravak vrijednosti knjiga, umjetničkih djela i ostalih izložbenih vrijednosti | C40: 02924 | D40: 2189.93 | E40: 2189.9 | F40: =IF(D40>0,IF(E40/D40>=100,">>100",E40/D40*100),"-") -> 99.99863
...

Sheet RAS-funkcijski
A1: Obveznik: | B1: 32297 - BRODSKO-POSAVSKA ŽUPANIJA | C1: Razina: | D1: 22 | E1: Razdoblje: | F1: 2023-12
A2: IZVJEŠTAJ O RASHODIMA PREMA FUNKCIJSKOJ KLASIFIKACIJI
A3: Brojč. ozn. funk. klas. | B3: Opis stavke | C3: Šifra | D3: Ostvareno u izvještajnom razdoblju preth. godine | E3: Ostvareno u izvještajnom razdoblju tekuće godine | F3: Indeks (5/4)
A4: 1 | B4: 2 | C4: 3 | D4: 4 | E4: 5 | F4: 6
A5: 01 | B5: Opće javne usluge (šifre 011+012+013+014 do 018) | C5: 01 | D5: =D6+D10+D13+SUM(D17:D21) -> 5360529 | E5: =E6+E10+E13+SUM(E17:E21) -> 10222356 | F5: =IF(D5>0,IF(E5/D5>=100,">>100",E5/D5*100),"-") -> 190.69678
A6: 011 | B6: Izvršna i zakonodavna tijela, financijski i fiskalni poslovi, vanjski poslovi (šifre 0111 do 0113) | C6: 011 | D6: =SUM(D7:D9) -> 4098149.3 | E6: =SUM(E7:E9) -> 8910151.7 | F6: =IF(D6>0,IF(E6/D6>=100,">>100",E6/D6*100),"-") -> 217.41891
A7: 0111 | B7: Izvršna i zakonodavna tijela | C7: 0111 | D7: 504298.35 | E7: 587709.13 | F7: =IF(D7>0,IF(E7/D7>=100,">>100",E7/D7*100),"-") -> 116.53997
A8: 0112 | B8: Financijski i fiskalni poslovi | C8: 0112 | D8: 3593851 | E8: 8322442.5 | F8: =IF(D8>0,IF(E8/D8>=100,">>100",E8/D8*100),"-") -> 231.5745
A9: 0113 | B9: Vanjski poslovi | C9: 0113 | D9: 0 | F9: =IF(D9>0,IF(E9/D9>=100,">>100",E9/D9*100),"-") -> -
A10: 012 | B10: Inozemna ekonomska pomoć (šifre 0121+0122) | C10: 012 | D10: =SUM(D11:D12) -> 0 | E10: =SUM(E11:E12) -> 0 | F10: =IF(D10>0,IF(E10/D10>=100,">>100",E10/D10*100),"-") -> -
A11: 0121 | B11: Ekonomska pomoć zemljama u razvoju i zemljama u tranziciji | C11: 0121 | D11: 0 | F11: =IF(D11>0,IF(E11/D11>=100,">>100",E11/D11*100),"-") -> -
A12: 0122 | B12: Ekonomska pomoć usmjerena preko međunarodnih agencija | C12: 0122 | D12: 0 | F12: =IF(D12>0,IF(E12/D12>=100,">>100",E12/D12*100),"-") -> -
A13: 013 | B13: Opće usluge (šifre 0131 do 0133) | C13: 013 | D13: =SUM(D14:D16) -> 1262379.7 | E13: =SUM(E14:E16) -> 1312204.8 | F13: =IF(D13>0,IF(E13/D13>=100,">>100",E13/D13*100),"-") -> 103.94692
A14: 0131 | B14: Opće usluge vezane za službenike | C14: 0131 | D14: 0 | F14: =IF(D14>0,IF(E14/D14>=100,">>100",E14/D14*100),"-") -> -
A15: 0132 | B15: Sveukupno planiranje i statističke usluge | C15: 0132 | D15: 0 | F15: =IF(D15>0,IF(E15/D15>=100,">>100",E15/D15*100),"-") -> -
A16: 0133 | B16: Ostale opće usluge | C16: 0133 | D16: 1262379.7 | E16: 1312204.8 | F16: =IF(D16>0,IF(E16/D16>=100,">>100",E16/D16*100),"-") -> 103.94692
A17: 014 | B17: Osnovna istraživanja | C17: 014 | D17: 0 | F17: =IF(D17>0,IF(E17/D17>=100,">>100",E17/D17*100),"-") -> -
A18: 015 | B18: Istraživanje i razvoj: Opće javne usluge | C18: 015 | D18: 0 | F18: =IF(D18>0,IF(E18/D18>=100,">>100",E18/D18*100),"-") -> -
A19: 016 | B19: Opće javne usluge koje nisu drugdje svrstane | C19: 016 | D19: 0 | F19: =IF(D19>0,IF(E19/D19>=100,">>100",E19/D19*100),"-") -> -
A20: 017 | B20: Transakcije vezane za javni dug | C20: 017 | D20: 0 | F20: =IF(D20>0,IF(E20/D20>=100,">>100",E20/D20*100),"-") -> -
A21: 018 | B21: Prijenosi općeg karaktera između različitih državnih razina | C21: 018 | D21: 0 | F21: =IF(D21>0,IF(E21/D21>=100,">>100",E21/D21*100),"-") -> -
A22: 02 | B22: Obrana (šifre 021 do 025) | C22: 02 | D22: =SUM(D23:D27) -> 0 | E22: =SUM(E23:E27) -> 0 | F22: =IF(D22>0,IF(E22/D22>=100,">>100",E22/D22*100),"-") -> -
A23: 021 | B23: Vojna obrana | C23: 021 | D23: 0 | F23: =IF(D23>0,IF(E23/D23>=100,">>100",E23/D23*100),"-") -> -
A24: 022 | B24: Civilna obrana | C24: 022 | D24: 0 | F24: =IF(D24>0,IF(E24/D24>=100,">>100",E24/D24*100),"-") -> -
A25: 023 | B25: Inozemna vojna pomoć | C25: 023 | D25: 0 | F25: =IF(D25>0,IF(E25/D25>=100,">>100",E25/D25*100),"-") -> -
A26: 024 | B26: Istraživanje i razvoj obrane | C26: 024 | D26: 0 | F26: =IF(D26>0,IF(E26/D26>=100,">>100",E26/D26*100),"-") -> -
A27: 025 | B27: Rashodi za obranu koji nisu drugdje svrstani | C27: 025 | D27: 0 | F27: =IF(D27>0,IF(E27/D27>=100,">>100",E27/D27*100),"-") -> -
A28: 03 | B28: Javni red i sigurnost (šifre 031 do 036) | C28: 03 | D28: =SUM(D29:D34) -> 207353.53 | E28: =SUM(E29:E34) -> 215415.54 | F28: =IF(D28>0,IF(E28/D28>=100,">>100",E28/D28*100),"-") -> 103.88805
A29: 031 | B29: Usluge policije | C29: 031 | D29: 0 | F29: =IF(D29>0,IF(E29/D29>=100,">>100",E29/D29*100),"-") -> -
A30: 032 | B30: Usluge protupožarne zaštite | C30: 032 | D30: 207353.53 | E30: 215415.54 | F30: =IF(D30>0,IF(E30/D30>=100,">>100",E30/D30*100),"-") -> 103.88805
A31: 033 | B31: Sudovi | C31: 033 | D31: 0 | F31: =IF(D31>0,IF(E31/D31>=100,">>100",E31/D31*100),"-") -> -
A32: 034 | B32: Zatvori | C32: 034 | D32: 0 | F32: =IF(D32>0,IF(E32/D32>=100,">>100",E32/D32*100),"-") -> -
A33: 035 | B33: Istraživanje i razvoj: Javni red i sigurnost | C33: 035 | D33: 0 | F33: =IF(D33>0,IF(E33/D33>=100,">>100",E33/D33*100),"-") -> -
A34: 036 | B34: Rashodi za javni red i sigurnost koji nisu drugdje svrstani | C34: 036 | D34: 0 | F34: =IF(D34>0,IF(E34/D34>=100,">>100",E34/D34*100),"-") -> -
A35: 04 | B35: Ekonomski poslovi (šifre 041+042+043+044+045+046+047+048+049) | C35: 04 | D35: =D36+D39+D43+D50+D54+D60+D61+D66+D74 -> 2194718.6 | E35: =E36+E39+E43+E50+E54+E60+E61+E66+E74 -> 3127325.8 | F35: =IF(D35>0,IF(E35/D35>=100,">>100",E35/D35*100),"-") -> 142.49325
A36: 041 | B36: Opći ekonomski, trgovački i poslovi vezani uz rad (šifre 0411+0412) | C36: 041 | D36: =SUM(D37:D38) -> 1339576.7 | E36: =SUM(E37:E38) -> 2345529.2 | F36: =IF(D36>0,IF(E36/D36>=100,">>100",E36/D36*100),"-") -> 175.0948
A37: 0411 | B37: Opći ekonomski i trgovački poslovi | C37: 0411 | D37: 1339576.7 | E37: 2345529.2 | F37: =IF(D37>0,IF(E37/D37>=100,">>100",E37/D37*100),"-") -> 175.0948
A38: 0412 | B38: Opći poslovi vezani uz rad | C38: 0412 | D38: 0 | F38: =IF(D38>0,IF(E38/D38>=100,">>100",E38/D38*100),"-") -> -
A39: 042 | B39: Poljoprivreda, šumarstvo, ribarstvo i lov (šifre 0421 do 0423) | C39: 042 | D39: =SUM(D40:D42) -> 832977.2 | E39: =SUM(E40:E42) -> 781796.59 | F39: =IF(D39>0,IF(E39/D39>=100,">>100",E39/D39*100),"-") -> 93.855701
A40: 0421 | B40: Poljoprivreda | C40: 0421 | D40: 832977.2 | E40: 781796.59 | F40: =IF(D40>0,IF(E40/D40>=100,">>100",E40/D40*100),"-") -> 93.855701
...

Sheet P-VRIO
A1: Obveznik: | B1: 32297 - BRODSKO-POSAVSKA ŽUPANIJA | C1: Razina: | D1: 22 | E1: Razdoblje: | F1: 2023-12
A2: IZVJEŠTAJ O PROMJENAMA U VRIJEDNOSTI I OBUJMU IMOVINE I OBVEZA
A3: Račun iz rač. plana | B3: Opis stavke | C3: Šifra | D3: Iznos povećanja | E3: Iznos smanjenja
A4: 1 | B4: 2 | C4: 3 | D4: 4 | E4: 5
A5: 9151 | B5: Promjene u vrijednosti i obujmu imovine (šifre 91511+91512) | C5: 9151 | D5: =D6+D22 -> 149770.24 | E5: =E6+E22 -> 823451.42
A6: 91511 | B6: Promjene u vrijednosti (revalorizacija) imovine (šifre P001+P008) | C6: 91511 | D6: =D7+D14 -> 149770.24 | E6: =E7+E14 -> 0
B7: Promjene u vrijednosti (revalorizacija) nefinancijske imovine (šifre P002 do P007) | C7: P001 | D7: =SUM(D8:D13) -> 149770.24 | E7: =SUM(E8:E13) -> 0
B8: Neproizvedena dugotrajna imovina | C8: P002 | D8: 149770.24
B9: Proizvedena dugotrajna imovina | C9: P003
B10: Plemeniti metali i ostale pohranjene vrijednosti | C10: P004
B11: Sitni inventar i auto gume | C11: P005
B12: Dugotrajna nefinancijska imovina u pripremi | C12: P006
B13: Proizvedena kratkotrajna imovina | C13: P007
B14: Promjene u vrijednosti (revalorizacija) financijske imovine (šifre P009 do P015) | C14: P008 | D14: =SUM(D15:D21) -> 0 | E14: =SUM(E15:E21) -> 0
B15: Novac u banci i blagajni | C15: P009
B16: Depoziti, jamčevni polozi i potraživanja od zaposlenih te za više plaćene poreze i ostalo | C16: P010
B17: Potraživanja za dane zajmove | C17: P011
B18: Vrijednosni papiri | C18: P012
B19: Dionice i udjeli u glavnici | C19: P013
B20: Potraživanja za prihode poslovanja | C20: P014
B21: Potraživanja od prodaje nefinancijske imovine | C21: P015
A22: 91512 | B22: Promjene u obujmu imovine (šifre P016+P023) | C22: 91512 | D22: =D23+D30 -> 0 | E22: =E23+E30 -> 823451.42
B23: Promjene u obujmu nefinancijske imovine (šifre P017 do P022) | C23: P016 | D23: =SUM(D24:D29) -> 0 | E23: =SUM(E24:E29) -> 823451.42
B24: Neproizvedena dugotrajna imovina | C24: P017
B25: Proizvedena dugotrajna imovina | C25: P018 | E25: 823451.42
B26: Plemeniti metali i ostale pohranjene vrijednosti | C26: P019
B27: Sitni inventar i auto gume | C27: P020
B28: Dugotrajna nefinancijska imovina u pripremi | C28: P021
B29: Proizvedena kratkotrajna imovina | C29: P022
B30: Promjene u obujmu financijske imovine (šifre P024 do P030) | C30: P023 | D30: =SUM(D31:D37) -> 0 | E30: =SUM(E31:E37) -> 0
B31: Novac u banci i blagajni | C31: P024
B32: Depoziti, jamčevni polozi i potraživanja od zaposlenih te za više plaćene poreze i ostalo | C32: P025
B33: Potraživanja za dane zajmove | C33: P026
B34: Vrijednosni papiri | C34: P027
B35: Dionice i udjeli u glavnici | C35: P028
B36: Potraživanja za prihode poslovanja | C36: P029
B37: Potraživanja od prodaje nefinancijske imovine | C37: P030
A38: 9152 | B38: Promjene u vrijednosti (revalorizacija) i obujmu obveza (šifre 91521+91522) | C38: 9152 | D38: =D39+D44 -> 0 | E38: =E39+E44 -> 0
A39: 91521 | B39: Promjene u vrijednosti (revalorizacija) obveza (šifre P031 do P034) | C39: 91521 | D39: =SUM(D40:D43) -> 0 | E39: =SUM(E40:E43) -> 0
B40: Obveze za rashode poslovanja | C40: P031
...

Sheet OBVEZE
A1: Obveznik: | B1: 32297 - BRODSKO-POSAVSKA ŽUPANIJA | C1: Razina: | D1: 22 | E1: Razdoblje: | F1: 2023-12
A2: IZVJEŠTAJ O OBVEZAMA
A3: Račun iz rač. plana | B3: Opis stavke | C3: Šifra | D3: Iznos
A4: 1 | B4: 2 | C4: 3 | D4: 4
B5: Stanje obveza 1. siječnja (=stanju obveza iz Izvještaja o obvezama na 31. prosinca prethodne godine) | C5: V001 | D5: 7611271.3
B6: Povećanje obveza u izvještajnom razdoblju (šifre V003+N23+N24 + 'N dio 25,26') | C6: V002 | D6: =D7+D8+D17+D18 -> 35309709
B7: Međusobne obveze subjekata općeg proračuna | C7: V003 | D7: 10663882
A8: 23 | B8: Obveze za rashode poslovanja (šifre N231 do N239) | C8: N23 | D8: =SUM(D9:D16) -> 22418347
A9: 231 | B9: Obveze za zaposlene | C9: N231 | D9: 3295385.1
A10: 232 | B10: Obveze za materijalne rashode | C10: N232 | D10: 3056010.6
A11: 234 | B11: Obveze za financijske rashode | C11: N234 | D11: 88346.93
A12: 235 | B12: Obveze za subvencije | C12: N235 | D12: 1019715.8
A13: 236 | B13: Obveze za povrat pomoći unutar općeg proračuna po protestiranim jamstvima | C13: N236 | D13: 717228.87
A14: 237 | B14: Obveze za naknade građanima i kućanstvima | C14: N237 | D14: 2149246.1
A15: 238 | B15: Obveze za kazne, naknade šteta i kapitalne pomoći | C15: N238 | D15: 2148344.8
A16: 239 | B16: Ostale tekuće obveze | C16: N239 | D16: 9944069.2
A17: 24 | B17: Obveze za nabavu nefinancijske imovine | C17: N24 | D17: 2100906.8
A18: dio 25,26 | B18: Obveze za financijsku imovinu (šifre 'N251, 253' + N254 + N256 + 'N262,263,2643,2644,2645,2653,2654,267' + 'N261,2646,2647,2648,2655,2656') | C18: N dio 25,26 | D18: =SUM(D19:D23) -> 126572.52
A19: 251.253 | B19: Obveze za čekove i mjenice | C19: N251, 253
A20: 254 | B20: Obveze za obveznice | C20: N254
A21: 256 | B21: Obveze za ostale vrijednosne papire | C21: N256
A22: 262,263,2643,2644, 2645,2653,2654,267 | B22: Obveze za tuzemne kredite i zajmove | C22: N262,263,2643,2644,2645,2653,2654,267 | D22: 126572.52
A23: 261,2646,2647, 2648,2655,2656 | B23: Obveze za inozemne kredite i zajmove | C23: N261,2646,2647,2648,2655,2656
B24: Podmirene obveze u izvještajnom razdoblju (šifre V005+P23+P24 + 'P dio 25,26') | C24: V004 | D24: =D25+D26+D35+D36 -> 30554978
B25: Međusobne obveze subjekata općeg proračuna | C25: V005 | D25: 10850000
A26: 23 | B26: Obveze za rashode poslovanja (šifre P231 do P239) | C26: P23 | D26: =SUM(D27:D34) -> 17051168
A27: 231 | B27: Obveze za zaposlene | C27: P231 | D27: 3248130.2
A28: 232 | B28: Obveze za materijalne rashode | C28: P232 | D28: 2953209.7
A29: 234 | B29: Obveze za financijske rashode | C29: P234 | D29: 89553.38
A30: 235 | B30: Obveze za subvencije | C30: P235 | D30: 1025628.2
A31: 236 | B31: Obveze za povrat pomoći unutar općeg proračuna po protestiranim jamstvima | C31: P236 | D31: 702118.86
A32: 237 | B32: Obveze za naknade građanima i kućanstvima | C32: P237 | D32: 2152685.9
A33: 238 | B33: Obveze za kazne, naknade šteta i kapitalne pomoći | C33: P238 | D33: 2166802.9
A34: 239 | B34: Ostale tekuće obveze | C34: P239 | D34: 4713039
A35: 24 | B35: Obveze za nabavu nefinancijske imovine | C35: P24 | D35: 1948606.3
A36: dio 25,26 | B36: Obveze za financijsku imovinu (šifre 'P251,253' + P254 + P256 + 'P262,263,2643,2644, 2645,2653,2654,267' + 'P261,2646,2647, 2648,2655,2656') | C36: P dio 25, 26 | D36: =SUM(D37:D41) -> 705202.8
A37: 251.253 | B37: Obveze za čekove i mjenice | C37: P251, 253
A38: 254 | B38: Obveze za obveznice | C38: P254
A39: 256 | B39: Obveze za ostale vrijednosne papire | C39: P256
A40: 262,263,2643,2644, 2645,2653,2654,267 | B40: Obveze za tuzemne kredite i zajmove | C40: P262,263,2643,2644, 2645,2653,2654,267 | D40: 705202.8
...

Sheet Kont
A1: IZVJEŠTAJ O OBVEZAMA | E1: REZ
A2: KONTROLE
A3: Rbr. | B3: Rezultat kontrole | C3: Opis kontrole | E3: =E4+E14+E20+E277+E311+E314+E316 -> 0 | F3: =F4+F14+F20+F277+F311+F314+F316 -> 2 | G3: =IF(RefStr!C12<>"",INT(VALUE(MID(RefStr!C12,1,4))),0) -> 2023 | H3: =IF(RefStr!C12<>"",INT(VALUE(MID(RefStr!C12,6,2))),0) -> 12 | I3: =RefStr!C10*1 -> 22 | J3: =RefStr!H7 -> DA | K3: =RefStr!H9 -> DA | L3: =RefStr!H10 -> DA | M3: =RefStr!H8 -> DA | N3: =RefStr!H11 -> DA | O3: =RefStr!C6 -> 32297
A4: OPĆE KONTROLE - Kontrole podataka iz zaglavlja i kontrole popunjenosti obrazaca | E4: =SUM(E5:E13) -> 0 | F4: =SUM(F5:F13) -> 0 | I4: 3 i 9 mjesec | J4: 6. mjesec | K4: 12. mjeseci
A5: 1 | B5: =IF(E5=1,"Pogreška",IF(F5=1,"Provjera","O.K.")) -> O.K. | C5: Razina 11 (od 2016. godine) - za kvartale te za polugodište (I.-III., I.-VI., I.-IX.) predaje obrasce PR-RAS i Obveze - za kraj godine predaje SVE obrasce: PR-RAS, BIL, P-VRIO, RAS-funkcijski i Obveze. Ova kontrola javlja pogrešku ako je popunjen obrazac koji se za upisano razdoblje i razinu ne treba popuniti, ili ako nije popunjen neki koji se treba popuniti. | E5: =MAX(G5:K5) -> 0 | F5: 0 | I5: =IF(AND($I$3=11,OR($H$3=3,$H$3=9),OR($J$3<>"DA",$K$3<>"NE",$L$3<>"NE",$M$3<>"NE",$N$3<>"DA")),1,0) -> 0 | J5: =IF(AND($I$3=11,$H$3=6,OR($J$3<>"DA",$K$3<>"NE",$L$3<>"NE",$M$3<>"NE",$N$3<>"DA")),1,0) -> 0 | K5: =IF(AND($I$3=11,$H$3=12,OR($J$3<>"DA",$K$3<>"DA",$L$3<>"DA",$M$3<>"DA",$N$3<>"DA")),1,0) -> 0
A6: 2 | B6: =IF(E6=1,"Pogreška",IF(F6=1,"Provjera","O.K.")) -> O.K. | C6: Razina 12 (od 2016. godine) - za kvartale (I.-III., I.-IX.) predaje samo obrazac Obveze, - za polugodište predaje obrazac PR-RAS te obrazac Obveze - za kraj godine predaje SVE obrasce: PR-RAS, BIL, P-VRIO, RAS-funkcijski i Obveze. Ova kontrola javlja pogrešku ako je popunjen obrazac koji se za upisano razdoblje i razinu ne treba popuniti, ili ako nije popunjen neki koji se treba popuniti. | E6: =MAX(G6:K6) -> 0 | F6: 0 | I6: =IF(AND($I$3=12,OR($H$3=3,$H$3=9),OR($J$3<>"NE",$K$3<>"NE",$L$3<>"NE",$M$3<>"NE",$N$3<>"DA")),1,0) -> 0 | J6: =IF(AND($I$3=12,$H$3=6,OR($J$3<>"DA",$K$3<>"NE",$L$3<>"NE",$M$3<>"NE",$N$3<>"DA")),1,0) -> 0 | K6: =IF(AND($I$3=12,$H$3=12,OR(J3<>"DA",K3<>"DA",L3<>"DA",M3<>"DA",N3<>"DA")),1,0) -> 0
A7: 3 | B7: =IF(E7=1,"Pogreška",IF(F7=1,"Provjera","O.K.")) -> O.K. | C7: Razina 13, opća država (od 2016. godine) - za kvartale te za polugodište (I.-III., I.-VI., I.-IX.) predaje samo obrazac PR-RAS - za kraj godine predaje obrasce: PR-RAS, BIL, P-VRIO i RAS-funkcijski. Ova kontrola javlja pogrešku ako je popunjen obrazac koji se za upisano razdoblje i razinu ne treba popuniti, ili ako nije popunjen neki koji se treba popuniti. | E7: =MAX(G7:K7) -> 0 | F7: 0 | I7: =IF(AND($I$3=13,OR($H$3=3,$H$3=9),OR($J$3<>"DA",$K$3<>"NE",$L$3<>"NE",$M$3<>"NE",$N$3<>"NE")),1,0) -> 0 | J7: =IF(AND($I$3=13,$H$3=6,OR($J$3<>"DA",$K$3<>"NE",$L$3<>"NE",$M$3<>"NE",$N$3<>"NE")),1,0) -> 0 | K7: =IF(AND($I$3=13,$H$3=12,OR($J$3<>"DA",$K$3<>"DA",$L$3<>"DA",$M$3<>"DA",$N$3<>"NE")),1,0) -> 0
A8: 4 | B8: =IF(E8=1,"Pogreška",IF(F8=1,"Provjera","O.K.")) -> O.K. | C8: Razina 21 (od 2016. godine) - za kvartale (I.-III., I.-IX.) predaje samo obrazac PR-RAS - za polugodište predaje obrasce PR-RAS i Obveze, - na godišnjoj razini predaje sve obrasce: PR-RAS, BIL, RAS-funkcijski, P-VRIO i Obveze. Ova kontrola javlja pogrešku ako je popunjen obrazac koji se za upisano razdoblje i razinu ne treba popuniti, ili ako nije popunjen neki koji se treba popuniti. | E8: =MAX(G8:K8) -> 0 | F8: 0 | I8: =IF(AND($I$3=21,OR($H$3=3,$H$3=9),OR($J$3<>"DA",$K$3<>"NE",$L$3<>"NE",$M$3<>"NE",$N$3<>"NE")),1,0) -> 0 | J8: =IF(AND($I$3=21,$H$3=6,OR($J$3<>"DA",$K$3<>"NE",$L$3<>"NE",$M$3<>"NE",$N$3<>"DA")),1,0) -> 0 | K8: =IF(AND($I$3=21,$H$3=12,OR($J$3<>"DA",$K$3<>"DA",$L$3<>"DA",$M$3<>"DA",$N$3<>"DA")),1,0) -> 0
A9: 5 | B9: =IF(E9=1,"Pogreška",IF(F9=1,"Provjera","O.K.")) -> O.K. | C9: Razina 22 (od 2016. godine) - za kvartale te za polugodište (I.-III., I.-VI., I.-IX.) predaje obrasce PR-RAS i Obveze - za kraj godine predaje SVE obrasce: PR-RAS, BIL, P-VRIO, RAS-funkcijski i Obveze. Ova kontrola javlja pogrešku ako je popunjen obrazac koji se za upisano razdoblje i razinu ne treba popuniti, ili ako nije popunjen neki koji se treba popuniti. | E9: =MAX(G9:K9) -> 0 | F9: 0 | I9: =IF(AND($I$3=22,OR($H$3=3,$H$3=9),OR($J$3<>"DA",$K$3<>"NE",$L$3<>"NE",$M$3<>"NE",$N$3<>"DA")),1,0) -> 0 | J9: =IF(AND($I$3=22,$H$3=6,OR($J$3<>"DA",$K$3<>"NE",$L$3<>"NE",$M$3<>"NE",$N$3<>"DA")),1,0) -> 0 | K9: =IF(AND($I$3=22,$H$3=12,OR($J$3<>"DA",$K$3<>"DA",$L$3<>"DA",$M$3<>"DA",$N$3<>"DA")),1,0) -> 0
A10: 6 | B10: =IF(E10=1,"Pogreška",IF(F10=1,"Provjera","O.K.")) -> O.K. | C10: Razina 23 (od 2016. godine) - za kvartale ne predaje ništa, nema konsolidacije, - za polugodište (I.-VI.) predaje obrasce PR-RAS i Obveze - za kraj godine predaje SVE obrasce: PR-RAS, BIL, P-VRIO, RAS-funkcijski i Obveze. Ova kontrola javlja pogrešku ako je popunjen obrazac koji se za upisano razdoblje i razinu ne treba popuniti, ili ako nije popunjen neki koji se treba popuniti. | E10: =MAX(G10:K10) -> 0 | F10: 0 | I10: =IF(AND($I$3=23,OR($H$3=3,$H$3=9)),1,0) -> 0 | J10: =IF(AND($I$3=23,$H$3=6,OR($J$3<>"DA",$K$3<>"NE",$L$3<>"NE",$M$3<>"NE",$N$3<>"DA")),1,0) -> 0 | K10: =IF(AND($I$3=23,$H$3=12,OR($J$3<>"DA",$K$3<>"DA",$L$3<>"DA",$M$3<>"DA",$N$3<>"DA")),1,0) -> 0
A11: 7 | B11: =IF(E11=1,"Pogreška",IF(F11=1,"Provjera","O.K.")) -> O.K. | C11: Razine 31 (od 2016. godine) - za kvartale (I.-III., I.-IX.) predaje samo obrazac PR-RAS - za polugodište predaje obrasce PR-RAS i Obveze - na godišnjoj razini predaje sve obrasce: PR-RAS, BIL, RAS-funkcijski, P-VRIO i Obveze. Ova kontrola javlja pogrešku ako je popunjen obrazac koji se za upisano razdoblje i razinu ne treba popuniti, ili ako nije popunjen neki koji se treba popuniti. | E11: =MAX(G11:K11) -> 0 | F11: 0 | I11: =IF(AND($I$3=31,OR($H$3=3,$H$3=9),OR($J$3<>"DA",$K$3<>"NE",$L$3<>"NE",$M$3<>"NE",$N$3<>"NE")),1,0) -> 0 | J11: =IF(AND($I$3=31,$H$3=6,OR($J$3<>"DA",$K$3<>"NE",$L$3<>"NE",$M$3<>"NE",$N$3<>"DA")),1,0) -> 0 | K11: =IF(AND($I$3=31,$H$3=12,OR($J$3<>"DA",$K$3<>"DA",$L$3<>"DA",$M$3<>"DA",$N$3<>"DA")),1,0) -> 0
A12: 8 | B12: =IF(E12=1,"Pogreška",IF(F12=1,"Provjera","O.K.")) -> O.K. | C12: Razina 41 (od 2016. godine) - za kvartale i polugodište (I.-III., I.-VI. i I.-IX.) predaje obrasce PR-RAS i Obveze - na godišnjoj razini predaje sve obrasce: PR-RAS, BIL, RAS-funkcijski, P-VRIO i Obveze. Ova kontrola javlja pogrešku ako je popunjen obrazac koji se za upisano razdoblje i razinu ne treba popuniti, ili ako nije popunjen neki koji se treba popuniti. | E12: =MAX(G12:K12) -> 0 | F12: 0 | I12: =IF(AND($I$3=41,OR($H$3=3,$H$3=9),OR($J$3<>"DA",$K$3<>"NE",$L$3<>"NE",$M$3<>"NE",$N$3<>"DA")),1,0) -> 0 | J12: =IF(AND($I$3=41,$H$3=6,OR($J$3<>"DA",$K$3<>"NE",$L$3<>"NE",$M$3<>"NE",$N$3<>"DA")),1,0) -> 0 | K12: =IF(AND($I$3=41,$H$3=12,OR($J$3<>"DA",$K$3<>"DA",$L$3<>"DA",$M$3<>"DA",$N$3<>"DA")),1,0) -> 0
A13: 9 | B13: =IF(E13=1,"Pogreška",IF(F13=1,"Provjera","O.K.")) -> O.K. | C13: Razine 42 (od 2016. godine) - za kvartale (I.-III., I.-IX.) predaje samo obrazac PR-RAS - za polugodište predaje obrasce PR-RAS i Obveze - na godišnjoj razini predaje sve obrasce: PR-RAS, BIL, RAS-funkcijski, P-VRIO i Obveze. Ova kontrola javlja pogrešku ako je popunjen obrazac koji se za upisano razdoblje i razinu ne treba popuniti, ili ako nije popunjen neki koji se treba popuniti. | E13: =MAX(G13:K13) -> 0 | F13: 0 | I13: =IF(AND($I$3=42,OR($H$3=3,$H$3=9),OR($J$3<>"DA",$K$3<>"NE",$L$3<>"NE",$M$3<>"NE",$N$3<>"NE")),1,0) -> 0 | J13: =IF(AND($I$3=42,$H$3=6,OR($J$3<>"DA",$K$3<>"NE",$L$3<>"NE",$M$3<>"NE",$N$3<>"DA")),1,0) -> 0 | K13: =IF(AND($I$3=42,$H$3=12,OR($J$3<>"DA",$K$3<>"DA",$L$3<>"DA",$M$3<>"DA",$N$3<>"DA")),1,0) -> 0
A14: Kontrole između dva različita obrasca | E14: =SUM(E15:E19) -> 0 | F14: =SUM(F15:F19) -> 0
A15: 1 | B15: =IF(E15=1,"Pogreška",IF(F15=1,"Provjera","O.K.")) -> O.K. | C15: Na godišnjoj razini, šifra 19 u obrascu Bilanca mora biti jednaka šifri 19 u obrascu PR-RAS. Ova kontrola je obvezujuća za razine 11, 21, 22, 31, 41, 42, a upozoravajuća za razine 12, 13 i 23. Ova kontrola vrijedi u obje kolone podataka, osim za obveznike kod kojih početak razdoblja nije ujedno i početak poslovne godine (obveznik je počeo s radom tokom godine). Za takve obveznike kontrola vrijedi samo za kolonu tekuće godine (ne i prethodne). | E15: =MAX(G15:K15) -> 0 | F15: =MAX(L15:O15) -> 0 | G15: =IF(AND(H3=12,J3="DA",M3="DA",OR(I3=11,I3=21,I3=22,I3=31,I3=41,I3=42),ABS(BILANCA!D170-'PR-RAS'!D647)>0.001),1,0) -> 0 | H15: =IF(AND(H3=12,J3="DA",M3="DA",OR(I3=11,I3=21,I3=22,I3=31,I3=41,I3=42),ABS(BILANCA!E170-'PR-RAS'!E647)>0.001),1,0) -> 0 | L15: =IF(AND(H3=12,J3="DA",M3="DA",OR(I3=12,I3=13,I3=23),ABS(BILANCA!D170-'PR-RAS'!D647)>0.001),1,0) -> 0 | M15: =IF(AND(H3=12,J3="DA",M3="DA",OR(I3=12,I3=13,I3=23),ABS(BILANCA!E170-'PR-RAS'!E647)>0.001),1,0) -> 0
A16: 2 | B16: =IF(E16=1,"Pogreška",IF(F16=1,"Provjera","O.K.")) -> O.K. | C16: Na godišnjoj razini, šifra 11 u obrascu Bilanca mora biti jednaka šifri 11K u obrascu PR-RAS. Ova kontrola je obvezujuća za razine 11, 21, 22, 31, 41 i 42, a upozoravajuća za razine 12, 13, 23. Ova kontrola vrijedi u obje kolone podataka. | E16: =MAX(G16:K16) -> 0 | F16: =MAX(L16:O16) -> 0 | G16: =IF(AND(H3=12,J3="DA",M3="DA",OR(I3=11,I3=21,I3=22,I3=31,I3=41,I3=42),ABS(BILANCA!D69-'PR-RAS'!D652)>0.001),1,0) -> 0 | H16: =IF(AND(H3=12,J3="DA",M3="DA",OR(I3=11,I3=21,I3=22,I3=31,I3=41,I3=42),ABS(BILANCA!E69-'PR-RAS'!E652)>0.001),1,0) -> 0 | L16: =IF(AND(H3=12,J3="DA",M3="DA",OR(I3=12,I3=13,I3=23),ABS(BILANCA!D69-'PR-RAS'!D652)>0.001),1,0) -> 0 | M16: =IF(AND(H3=12,J3="DA",M3="DA",OR(I3=12,I3=13,I3=23),ABS(BILANCA!E69-'PR-RAS'!E652)>0.001),1,0) -> 0
A17: 3 | B17: =IF(E17=1,"Pogreška",IF(F17=1,"Provjera","O.K.")) -> O.K. | C17: Na godišnjoj razini, ako je u Bilanci šifra 9221 > 9222, tada šifra X006 u PR-RAS-u mora biti jednaka šifri 9221-9222 u Bilanci, a šifra Y006 mora biti nula. Ako je u Bilanci šifra 9222 > 9221 tada šifra Y006 u PR-RAS-u mora biti jednaka šifri 9222 - 9221 u Bilanci, a šifra X006 u PR-RAS-u mora biti nula. Ova kontrola vrijedi za obje godine osim u slučaju kada je u PR-RAS obrascu kolona prethodne godine nepopunjena. | E17: =MAX(G17:L17) -> 0 | F17: 0 | G17: =IF(AND(H3=12,J3="DA",M3="DA",BILANCA!D246-BILANCA!D250>0.001,OR(ABS(BILANCA!D246-BILANCA!D250-'PR-RAS'!D645)>0.001,ABS('PR-RAS'!D646)>0.001)),1,0) -> 0 | H17: =IF(AND(H3=12,J3="DA",M3="DA",BILANCA!E246-BILANCA!E250>0.001,OR(ABS(BILANCA!E246-BILANCA!E250-'PR-RAS'!E645)>0.001,ABS('PR-RAS'!E646)>0.001)),1,0) -> 0 | I17: =IF(AND(H3=12,J3="DA",M3="DA",BILANCA!D250-BILANCA!D246>0.001,OR(ABS(BILANCA!D250-BILANCA!D246-'PR-RAS'!D646)>0.001,ABS('PR-RAS'!D645)>0.001)),1,0) -> 0 | J17: =IF(AND(H3=12,J3="DA",M3="DA",BILANCA!E250-BILANCA!E246>0.001,OR(ABS(BILANCA!E250-BILANCA!E246-'PR-RAS'!E646)>0.001,ABS('PR-RAS'!E645)>0.001)),1,0) -> 0
A18: 4 | B18: =IF(E18=1,"Pogreška",IF(F18=1,"Provjera","O.K.")) -> O.K. | C18: Ako je obrazac RAS-funkcijski popunjen, tada razlika šifri Y034 i 367 (šifre Y034-367) u obrascu PR-RAS treba biti jednaka zbroju svih rashoda po vrstama, tj. šifri R1 u obrascu RAS-funkcijski. | E18: =MAX(G18:L18) -> 0 | F18: 0 | G18: =IF(AND(J3="DA",K3="DA",I3<>12,I3<>23,ABS('PR-RAS'!D413-'PR-RAS'!D240-'RAS-funkcijski'!D141)>0.001),1,0) -> 0 | H18: =IF(AND(J3="DA",K3="DA",I3<>12,I3<>23,ABS('PR-RAS'!E413-'PR-RAS'!E240-'RAS-funkcijski'!E141)>0.001),1,0) -> 0
A19: 5 | B19: =IF(E19=1,"Pogreška",IF(F19=1,"Provjera","O.K.")) -> O.K. | C19: Na godišnjoj razini, šifra V006 u obrascu Obveze mora biti jednaka razlici šifri 2 i 29 (šifre 2-29) u obrascu Bilanca. | E19: =MAX(H19:L19) -> 0 | F19: 0 | H19: =IF(AND(H3=12,ABS(BILANCA!E176-BILANCA!E234-OBVEZE!D42)>0.001),1,0) -> 0
A20: Kontrole na obrascu PR-RAS | E20: =SUM(E21:E276) -> 0 | F20: =SUM(F21:F276) -> 2
A21: 1 | B21: =IF(E21=1,"Pogreška",IF(F21=1,"Provjera","O.K.")) -> O.K. | C21: Ako je u nekom stupcu na šiframa Z006 do Z009 (broj zaposlenih) podatak veći od nule, tada mora postojati podatak na šifri 31 (rashodi za zaposlene) veći od nule. Ako su na šifri 31 iskazani rashodi za zaposlene mora postojati i podatak o broju zaposlenih. | E21: =MAX(G21:K21) -> 0 | F21: =MAX(L21:O21) -> 0 | G21: =IF(OR(AND('PR-RAS'!D152=0,MAX('PR-RAS'!D653:D656)>0),AND('PR-RAS'!E152=0,MAX('PR-RAS'!E653:E656)>0)),1,0) -> 0 | H21: =IF(OR(AND('PR-RAS'!D152<>0,MAX('PR-RAS'!D653:D656)=0),AND('PR-RAS'!E152<>0,MAX('PR-RAS'!E653:E656)=0)),1,0) -> 0
A22: 2 | B22: =IF(E22=1,"Pogreška",IF(F22=1,"Provjera","O.K.")) -> O.K. | C22: Ako je u nekom stupcu na šifri Z006 broj veći od nule, tada i na šifri Z008 mora biti broj veći od nule i obrnuto. | E22: =MAX(G22:K22) -> 0 | F22: =MAX(L22:O22) -> 0 | G22: =IF(OR(AND('PR-RAS'!D653=0,'PR-RAS'!D655<>0),AND('PR-RAS'!D653<>0,'PR-RAS'!D655=0)),1,0) -> 0 | H22: =IF(OR(AND('PR-RAS'!E653=0,'PR-RAS'!E655<>0),AND('PR-RAS'!E653<>0,'PR-RAS'!E655=0)),1,0) -> 0
A23: 3 | B23: =IF(E23=1,"Pogreška",IF(F23=1,"Provjera","O.K.")) -> O.K. | C23: Ako je u nekom stupcu na šifri Z007 broj veći od nule, tada i na šifri Z009 mora biti broj veći od nule i obrnuto. | E23: =MAX(G23:K23) -> 0 | F23: =MAX(L23:O23) -> 0 | G23: =IF(OR(AND('PR-RAS'!D654=0,'PR-RAS'!D656<>0),AND('PR-RAS'!D654<>0,'PR-RAS'!D656=0)),1,0) -> 0 | H23: =IF(OR(AND('PR-RAS'!E654=0,'PR-RAS'!E656<>0),AND('PR-RAS'!E654<>0,'PR-RAS'!E656=0)),1,0) -> 0
A24: 4 | B24: =IF(E24=1,"Pogreška",IF(F24=1,"Provjera","O.K.")) -> O.K. | C24: Šifra 61315 je samo dio šifre 6131 i mora joj biti manja ili jednaka u oba stupca podataka. | E24: =MAX(G24:K24) -> 0 | F24: =MAX(L24:O24) -> 0 | G24: =IF(ROUND('PR-RAS'!D658,2)>ROUND('PR-RAS'!D24,2),1,0) -> 0 | H24: =IF(ROUND('PR-RAS'!E658,2)>ROUND('PR-RAS'!E24,2),1,0) -> 0
A25: 5 | B25: =IF(E25=1,"Pogreška",IF(F25=1,"Provjera","O.K.")) -> O.K. | C25: Zbroj šifri: 61451+61453 je samo dio šifre 6145 i mora joj biti manji ili jednak u oba stupca podataka. | E25: =MAX(G25:K25) -> 0 | F25: =MAX(L25:O25) -> 0 | G25: =IF(ROUND('PR-RAS'!D659+'PR-RAS'!D660,2)>ROUND('PR-RAS'!D33,2),1,0) -> 0 | H25: =IF(ROUND('PR-RAS'!E659+'PR-RAS'!E660,2)>ROUND('PR-RAS'!E33,2),1,0) -> 0
A26: 6 | B26: =IF(E26=1,"Pogreška",IF(F26=1,"Provjera","O.K.")) -> O.K. | C26: Šifra 6331 mora biti jednaka zbroju šifri: 63311 do 63314 u oba stupca podataka. | E26: =MAX(G26:K26) -> 0 | F26: =MAX(L26:O26) -> 0 | G26: =IF(ABS('PR-RAS'!D60-SUM('PR-RAS'!D661:D664))>0.001,1,0) -> 0 | H26: =IF(ABS('PR-RAS'!E60-SUM('PR-RAS'!E661:E664))>0.001,1,0) -> 0
A27: 7 | B27: =IF(E27=1,"Pogreška",IF(F27=1,"Provjera","O.K.")) -> O.K. | C27: Šifra 6332 mora biti jednaka zbroju šifri: 63321 do 63324 u oba stupca podataka. | E27: =MAX(G27:K27) -> 0 | F27: =MAX(L27:O27) -> 0 | G27: =IF(ABS('PR-RAS'!D61-SUM('PR-RAS'!D665:'PR-RAS'!D668))>0.001,1,0) -> 0 | H27: =IF(ABS('PR-RAS'!E61-SUM('PR-RAS'!E665:'PR-RAS'!E668))>0.001,1,0) -> 0
A28: 8 | B28: =IF(E28=1,"Pogreška",IF(F28=1,"Provjera","O.K.")) -> O.K. | C28: Šifra 6341 mora biti jednaka zbroju šifri: 63414 do 63416 u oba stupca podataka. | E28: =MAX(G28:K28) -> 0 | F28: =MAX(L28:O28) -> 0 | G28: =IF(ABS('PR-RAS'!D63-SUM('PR-RAS'!D669:D671))>0.001,1,0) -> 0 | H28: =IF(ABS('PR-RAS'!E63-SUM('PR-RAS'!E669:E671))>0.001,1,0) -> 0
A29: 9 | B29: =IF(E29=1,"Pogreška",IF(F29=1,"Provjera","O.K.")) -> O.K. | C29: Šifra 6342 mora biti jednaka zbroju šifri: 63424 do 63426 u oba stupca podataka. | E29: =MAX(G29:K29) -> 0 | F29: =MAX(L29:O29) -> 0 | G29: =IF(ABS('PR-RAS'!D64-SUM('PR-RAS'!D672:D674))>0.001,1,0) -> 0 | H29: =IF(ABS('PR-RAS'!E64-SUM('PR-RAS'!E672:E674))>0.001,1,0) -> 0
